BEGIN:VCALENDAR
VERSION:2.0
PRODID:-//Sustainability - ECPv6.15.20//NONSGML v1.0//EN
CALSCALE:GREGORIAN
METHOD:PUBLISH
X-ORIGINAL-URL:https://sustainability.uncg.edu
X-WR-CALDESC:Events for Sustainability
REFRESH-INTERVAL;VALUE=DURATION:PT1H
X-Robots-Tag:noindex
X-PUBLISHED-TTL:PT1H
BEGIN:VTIMEZONE
TZID:America/New_York
BEGIN:DAYLIGHT
TZOFFSETFROM:-0500
TZOFFSETTO:-0400
TZNAME:EDT
DTSTART:20250309T070000
END:DAYLIGHT
BEGIN:STANDARD
TZOFFSETFROM:-0400
TZOFFSETTO:-0500
TZNAME:EST
DTSTART:20251102T060000
END:STANDARD
BEGIN:DAYLIGHT
TZOFFSETFROM:-0500
TZOFFSETTO:-0400
TZNAME:EDT
DTSTART:20260308T070000
END:DAYLIGHT
BEGIN:STANDARD
TZOFFSETFROM:-0400
TZOFFSETTO:-0500
TZNAME:EST
DTSTART:20261101T060000
END:STANDARD
BEGIN:DAYLIGHT
TZOFFSETFROM:-0500
TZOFFSETTO:-0400
TZNAME:EDT
DTSTART:20270314T070000
END:DAYLIGHT
BEGIN:STANDARD
TZOFFSETFROM:-0400
TZOFFSETTO:-0500
TZNAME:EST
DTSTART:20271107T060000
END:STANDARD
END:VTIMEZONE
BEGIN:VEVENT
DTSTART;TZID=America/New_York:20260408T110000
DTEND;TZID=America/New_York:20260408T130000
DTSTAMP:20260420T023802
CREATED:20260323T202652Z
LAST-MODIFIED:20260323T202652Z
UID:10000059-1775646000-1775653200@sustainability.uncg.edu
SUMMARY:Pothos Plant Giveaway
DESCRIPTION:As part of UNCG’s Wellness Takeover Day\, the Office of Sustainability will be giving away cuttings of Pothos plants. These are hardy plants that require minimal light and water – easy to take care of in your dorm! Wellness related events will be happening across campus all day. See the schedule and learn more here.
URL:https://sustainability.uncg.edu/event/pothos-plant-giveaway-2/
LOCATION:Moran Commons Lobby
END:VEVENT
END:VCALENDAR