BEGIN:VCALENDAR
VERSION:2.0
PRODID:-//Sustainability - ECPv6.15.20//NONSGML v1.0//EN
CALSCALE:GREGORIAN
METHOD:PUBLISH
X-WR-CALNAME:Sustainability
X-ORIGINAL-URL:https://sustainability.uncg.edu
X-WR-CALDESC:Events for Sustainability
REFRESH-INTERVAL;VALUE=DURATION:PT1H
X-Robots-Tag:noindex
X-PUBLISHED-TTL:PT1H
BEGIN:VTIMEZONE
TZID:America/New_York
BEGIN:DAYLIGHT
TZOFFSETFROM:-0500
TZOFFSETTO:-0400
TZNAME:EDT
DTSTART:20250309T070000
END:DAYLIGHT
BEGIN:STANDARD
TZOFFSETFROM:-0400
TZOFFSETTO:-0500
TZNAME:EST
DTSTART:20251102T060000
END:STANDARD
BEGIN:DAYLIGHT
TZOFFSETFROM:-0500
TZOFFSETTO:-0400
TZNAME:EDT
DTSTART:20260308T070000
END:DAYLIGHT
BEGIN:STANDARD
TZOFFSETFROM:-0400
TZOFFSETTO:-0500
TZNAME:EST
DTSTART:20261101T060000
END:STANDARD
BEGIN:DAYLIGHT
TZOFFSETFROM:-0500
TZOFFSETTO:-0400
TZNAME:EDT
DTSTART:20270314T070000
END:DAYLIGHT
BEGIN:STANDARD
TZOFFSETFROM:-0400
TZOFFSETTO:-0500
TZNAME:EST
DTSTART:20271107T060000
END:STANDARD
END:VTIMEZONE
BEGIN:VEVENT
DTSTART;TZID=America/New_York:20260421T170000
DTEND;TZID=America/New_York:20260421T190000
DTSTAMP:20260419T103449
CREATED:20260331T174912Z
LAST-MODIFIED:20260331T174912Z
UID:10000066-1776790800-1776798000@sustainability.uncg.edu
SUMMARY:Environmental Justice Film and Discussion Panel
DESCRIPTION:Join us for a screening of “Unbreathable: The Fight For Healthy Air\,” a film by Maggie Burnette Stogner that details the challenges we still face to ensure healthy air for everyone. Weaving historical milestones of fifty years of the Clean Air Act with current day stories of environmental injustice\, the film is an excellent catalyst for engagement and action. \nFollowing the 30 min. film\, we will be joined by Kennedy Williams of Clean Aire NC\, Dr. Valerie Ann Johnson of NC Environmental Justice Network\, and Dr. Bhuwan Thapa from the Geography\, Environment\, and Sustainability Department at UNCG for a panelist Q&A. \nIf you can’t attend in-person\, please register for the live virtual webinar option. \nFood and beverages will be provided. Sponsored by the Student Government Association and the UNCG Green Fund.
URL:https://sustainability.uncg.edu/event/environmental-justice-film-and-discussion-panel/
LOCATION:EUC Claxton
END:VEVENT
BEGIN:VEVENT
DTSTART;TZID=America/New_York:20260422T110000
DTEND;TZID=America/New_York:20260422T130000
DTSTAMP:20260419T103449
CREATED:20260323T215055Z
LAST-MODIFIED:20260323T215055Z
UID:10000063-1776855600-1776862800@sustainability.uncg.edu
SUMMARY:Earth Day Celebration
DESCRIPTION:Join us on College Avenue for our annual Earth Day fair! Community organizations\, campus depts. and clubs will be on hand to educate\, inspire\, and connect you to our community and planet!
URL:https://sustainability.uncg.edu/event/earth-day-celebration/
LOCATION:College Ave.
END:VEVENT
BEGIN:VEVENT
DTSTART;TZID=America/New_York:20260423T130000
DTEND;TZID=America/New_York:20260423T140000
DTSTAMP:20260419T103449
CREATED:20260323T214625Z
LAST-MODIFIED:20260323T214625Z
UID:10000062-1776949200-1776952800@sustainability.uncg.edu
SUMMARY:Arbor Day Celebration
DESCRIPTION:Join the Peabody Park Preservation Committee and the Office of Sustainability as we celebrate Arbor Day with a campus tree planting. More details to come!
URL:https://sustainability.uncg.edu/event/arbor-day-celebration-2/
END:VEVENT
END:VCALENDAR